BEGIN:VCALENDAR
VERSION:2.0
PRODID:-//Michigan Germanic Genealogical Society - ECPv6.15.20//NONSGML v1.0//EN
CALSCALE:GREGORIAN
METHOD:PUBLISH
X-ORIGINAL-URL:https://miggs.org
X-WR-CALDESC:Events for Michigan Germanic Genealogical Society
REFRESH-INTERVAL;VALUE=DURATION:PT1H
X-Robots-Tag:noindex
X-PUBLISHED-TTL:PT1H
BEGIN:VTIMEZONE
TZID:America/Detroit
BEGIN:DAYLIGHT
TZOFFSETFROM:-0500
TZOFFSETTO:-0400
TZNAME:EDT
DTSTART:20220313T070000
END:DAYLIGHT
BEGIN:STANDARD
TZOFFSETFROM:-0400
TZOFFSETTO:-0500
TZNAME:EST
DTSTART:20221106T060000
END:STANDARD
BEGIN:DAYLIGHT
TZOFFSETFROM:-0500
TZOFFSETTO:-0400
TZNAME:EDT
DTSTART:20230312T070000
END:DAYLIGHT
BEGIN:STANDARD
TZOFFSETFROM:-0400
TZOFFSETTO:-0500
TZNAME:EST
DTSTART:20231105T060000
END:STANDARD
BEGIN:DAYLIGHT
TZOFFSETFROM:-0500
TZOFFSETTO:-0400
TZNAME:EDT
DTSTART:20240310T070000
END:DAYLIGHT
BEGIN:STANDARD
TZOFFSETFROM:-0400
TZOFFSETTO:-0500
TZNAME:EST
DTSTART:20241103T060000
END:STANDARD
END:VTIMEZONE
BEGIN:VEVENT
DTSTART;TZID=America/Detroit:20230508T193000
DTEND;TZID=America/Detroit:20230508T203000
DTSTAMP:20260419T101614
CREATED:20230102T181548Z
LAST-MODIFIED:20230506T182639Z
UID:1516-1683574200-1683577800@miggs.org
SUMMARY:German Research Resources at the Library of Michigan
DESCRIPTION:Presenter: Kendel Joy Darragh\, Reference Librarian \n\n\n\nWebsite: https://www.michigan.gov/libraryofmichigan/public \n\n\n\nShe has been a reference librarian at the Library of Michigan for 20 years.  Kendel Darragh has been a reference librarian at the Library of Michigan for 20 years. She works extensively with the newspaper collection\, poetry from Broadside Press\, cemetery resources\, prison newspapers\, outreach to public libraries\, schools and educators\, the Special Collections Update and booklists for public libraries. Kendel has a BA in German language and literature and values the rare opportunity to use it in her profession. \n\n\n\nIf you are currently a member of the Michigan Germanic Genealogical Society – you will be emailed an invitation within 7 to 10 days prior to the event from our Zoom coordinator. If you are not a member and wish to attend the event – email us at information@miggs.org and request an invitation with in 7 days of the event.
URL:https://miggs.org/event/library-of-michigan-germanic-resources/
CATEGORIES:Library of Michigan,MIGGS,Program
ATTACH;FMTTYPE=image/png:https://miggs.org/wp-content/uploads/2023/01/unnamed-e1672684085619.png
END:VEVENT
END:VCALENDAR